BEGIN:VCALENDAR
VERSION:2.0
PRODID:-//Lardner Park - ECPv5.3.1.1//NONSGML v1.0//EN
CALSCALE:GREGORIAN
METHOD:PUBLISH
X-WR-CALNAME:Lardner Park
X-ORIGINAL-URL:https://lardnerpark.com.au
X-WR-CALDESC:Events for Lardner Park
BEGIN:VTIMEZONE
TZID:Australia/Melbourne
BEGIN:STANDARD
TZOFFSETFROM:+1100
TZOFFSETTO:+1000
TZNAME:AEST
DTSTART:20210403T160000
END:STANDARD
BEGIN:DAYLIGHT
TZOFFSETFROM:+1000
TZOFFSETTO:+1100
TZNAME:AEDT
DTSTART:20211002T160000
END:DAYLIGHT
BEGIN:STANDARD
TZOFFSETFROM:+1100
TZOFFSETTO:+1000
TZNAME:AEST
DTSTART:20220402T160000
END:STANDARD
BEGIN:DAYLIGHT
TZOFFSETFROM:+1000
TZOFFSETTO:+1100
TZNAME:AEDT
DTSTART:20221001T160000
END:DAYLIGHT
END:VTIMEZONE
BEGIN:VEVENT
DTSTART;VALUE=DATE:20220220
DTEND;VALUE=DATE:20220222
DTSTAMP:20210226T182440
CREATED:20200730T052442Z
LAST-MODIFIED:20200916T001956Z
UID:1520-1645322400-1645408799@lardnerpark.com.au
SUMMARY:Victorian 4WD Show
DESCRIPTION:Unfortunately\, due to Covid restrictions The Victorian 4WD Show has had to make the difficult decision to cancel the 2021 event. As Australia’s longest-running 4WD show it has been a must-attend event for all 4WD enthusiasts.  It provides attendees with the opportunity to explore the exhibit of products such as 4WD accessories\, vehicle modifications\, camping gear\, off-road camper trailers\, fishing equipment\, and much more.  It has a test track showing the capability of various 4WD’s in a realistic setting.  Practical demonstrations of vehicle driving scenarios\, 4WD and camping equipment are included in the show – what works and why.  This is a must-see event\, put it in your calendar now! The committee are pleased to confirm the show will return in February 2022 on Sunday the 20th and look forward to seeing all Exhibitors and Patrons at this important event in the state 4WD calendar.
URL:https://lardnerpark.com.au/event/victorian-4wd-show/
LOCATION:Lardner Park\, 155 Burnt Store Road\, Lardner\, VIC\, 3821\, Australia
ATTACH;FMTTYPE=image/jpeg:https://lardnerpark.com.au/wp-content/uploads/4WD-Show-Logo-PMS-002.jpg
GEO:-38.20304;145.86737
X-APPLE-STRUCTURED-LOCATION;VALUE=URI;X-ADDRESS=Lardner Park 155 Burnt Store Road Lardner VIC 3821 Australia;X-APPLE-RADIUS=500;X-TITLE=155 Burnt Store Road:geo:145.86737,-38.20304
END:VEVENT
BEGIN:VEVENT
DTSTART;TZID=Australia/Melbourne:20210326T090000
DTEND;TZID=Australia/Melbourne:20210328T160000
DTSTAMP:20210226T182440
CREATED:20191106T035040Z
LAST-MODIFIED:20201207T070412Z
UID:1035-1616749200-1616947200@lardnerpark.com.au
SUMMARY:Farm World
DESCRIPTION:Farm World\, recognised as one of Victoria’s premier regional agricultural shows\, provides a platform to showcase the best of agribusiness\, the latest in technology\, equipment\, and information and provides an ideal opportunity to get up close and chat with the experts. There’s plenty at Farm World for both urban pioneers and lifestyle farmers interested in equipment\, farm machinery\, DIY passions\, sustainable gardens and horticulture\, drone innovation\, outdoor living including boats and vehicles plus masses of must-have tools.  And it wouldn’t be Farm World without a huge variety of animals.  Come and see the cattle\, watch the Kelpie’s round up sheep\, chat to an alpaca\, or watch the sheep being shorn.. Returning in 2021 will be the Telstra Women in Ag lunch\, a signature event and highlight for many\, and Farm World’s Fittest Farmer\, where contestants will battle it out for the ultimate farm/fitness crown.  Farm World is a haven for shoppers looking to purchase that special item\, whether that’s large or small\, for home\, workshop or leisure.  So with a parcel delivery service\, you can shop ’til you drop and not have to carry a thing!
URL:https://lardnerpark.com.au/event/farm-world/2021-03-26/
LOCATION:Lardner Park\, 155 Burnt Store Road\, Lardner\, VIC\, 3821\, Australia
ATTACH;FMTTYPE=image/jpeg:https://lardnerpark.com.au/wp-content/uploads/Jo-Farm-World.jpg
GEO:-38.20304;145.86737
X-APPLE-STRUCTURED-LOCATION;VALUE=URI;X-ADDRESS=Lardner Park 155 Burnt Store Road Lardner VIC 3821 Australia;X-APPLE-RADIUS=500;X-TITLE=155 Burnt Store Road:geo:145.86737,-38.20304
END:VEVENT
END:VCALENDAR